BEGIN:VCALENDAR
VERSION:2.0
PRODID:-//Delftsche Studenten Rugby-Club - ECPv6.7.1//NONSGML v1.0//EN
CALSCALE:GREGORIAN
METHOD:PUBLISH
X-WR-CALNAME:Delftsche Studenten Rugby-Club
X-ORIGINAL-URL:https://dsr-c.nl
X-WR-CALDESC:Evenementen voor Delftsche Studenten Rugby-Club
REFRESH-INTERVAL;VALUE=DURATION:PT1H
X-Robots-Tag:noindex
X-PUBLISHED-TTL:PT1H
BEGIN:VTIMEZONE
TZID:Europe/Amsterdam
BEGIN:DAYLIGHT
TZOFFSETFROM:+0100
TZOFFSETTO:+0200
TZNAME:CEST
DTSTART:20240331T010000
END:DAYLIGHT
BEGIN:STANDARD
TZOFFSETFROM:+0200
TZOFFSETTO:+0100
TZNAME:CET
DTSTART:20241027T010000
END:STANDARD
END:VTIMEZONE
BEGIN:VEVENT
DTSTART;TZID=Europe/Amsterdam:20240907T140000
DTEND;TZID=Europe/Amsterdam:20240907T160000
DTSTAMP:20260423T132941
CREATED:20240918T163809Z
LAST-MODIFIED:20240918T163809Z
UID:5644-1725717600-1725724800@dsr-c.nl
SUMMARY:UIT: DSR-C 1 - RC 't Gooi 2
DESCRIPTION:EINDSTAND: 12 – 43
URL:https://dsr-c.nl/event/uit-dsr-c-1-rc-t-gooi-2/
LOCATION:RC ’t Gooi
END:VEVENT
END:VCALENDAR