BEGIN:VCALENDAR
VERSION:2.0
PRODID:-//Delftsche Studenten Rugby-Club - ECPv6.7.1//NONSGML v1.0//EN
CALSCALE:GREGORIAN
METHOD:PUBLISH
X-WR-CALNAME:Delftsche Studenten Rugby-Club
X-ORIGINAL-URL:https://dsr-c.nl
X-WR-CALDESC:Evenementen voor Delftsche Studenten Rugby-Club
REFRESH-INTERVAL;VALUE=DURATION:PT1H
X-Robots-Tag:noindex
X-PUBLISHED-TTL:PT1H
BEGIN:VTIMEZONE
TZID:Europe/Amsterdam
BEGIN:DAYLIGHT
TZOFFSETFROM:+0100
TZOFFSETTO:+0200
TZNAME:CEST
DTSTART:20240331T010000
END:DAYLIGHT
BEGIN:STANDARD
TZOFFSETFROM:+0200
TZOFFSETTO:+0100
TZNAME:CET
DTSTART:20241027T010000
END:STANDARD
END:VTIMEZONE
BEGIN:VEVENT
DTSTART;TZID=Europe/Amsterdam:20240928T140000
DTEND;TZID=Europe/Amsterdam:20240928T160000
DTSTAMP:20260423T132939
CREATED:20240918T164814Z
LAST-MODIFIED:20240918T164814Z
UID:5654-1727532000-1727539200@dsr-c.nl
SUMMARY:THUIS: DSR-C 1 - USRS 1
DESCRIPTION:EINDSTAND: N/A
URL:https://dsr-c.nl/event/thuis-dsr-c-1-usrs-1/
LOCATION:Sportcentrum TU Delft
END:VEVENT
END:VCALENDAR